BEGIN:VCALENDAR
VERSION:2.0
PRODID:-//eventon.com NONSGML v1.0//EN
CALSCALE:GREGORIAN
METHOD:PUBLISH
BEGIN:VEVENT
UID:69e940c93f346
DTSTAMP:20260422T214233Z
DTSTART:20250510T110000Z
DTEND:20250510T150000Z
LOCATION:
SUMMARY:Wijkconferentie Zuiderburen
DESCRIPTION:Op zaterdag 10 mei 2025 komt de wijk Zuiderburen samen voor een
  dag vol inspiratie\,  beweging en verbinding. Of je nu mee wilt praten ove
 r wat goed gaat en wat beter kan\,  sportieve mogelijkheden wilt ontdekken 
 op de bewegingsmarkt\,  of geniet van spectaculaire demonstraties op het ve
 ld bij de Máxima\, [..]\nhttps://zuiderburen.nl/events/wijkconferentie-zui
 derburen/
URL:https://zuiderburen.nl/events/wijkconferentie-zuiderburen/
END:VEVENT
END:VCALENDAR