BEGIN:VCALENDAR
VERSION:2.0
PRODID:-//eventon.com NONSGML v1.0//EN
CALSCALE:GREGORIAN
METHOD:PUBLISH
BEGIN:VEVENT
UID:69e928d18735f
DTSTAMP:20260422T200017Z
DTSTART:20260116T184500Z
DTEND:20260116T210000Z
LOCATION:
SUMMARY:Nieuwjaarsborrel Zuiderburen
DESCRIPTION:We luiden het nieuwe jaar graag samen met jou in! Op vrijdagavo
 nd 16 januari vanaf 19.45 uur ben je van harte welkom op de Nieuwjaarsborre
 l van Wijk Zuiderburen. Het belooft een gezellige avond te worden\,  met ee
 n hapje\,  een drankje en natuurlijk een feestelijke toast op een fantastis
 ch 2026! 🥂[..]\nhttps://zuiderburen.nl/events/nieuwjaarsborrel-zuiderbur
 en/
URL:https://zuiderburen.nl/events/nieuwjaarsborrel-zuiderburen/
END:VEVENT
END:VCALENDAR