BEGIN:VCALENDAR
VERSION:2.0
PRODID:-//eventon.com NONSGML v1.0//EN
CALSCALE:GREGORIAN
METHOD:PUBLISH
BEGIN:VEVENT
UID:69e911fa9909c
DTSTAMP:20260422T182250Z
DTSTART:20241101T181500Z
DTEND:20241101T200000Z
LOCATION:
SUMMARY:Halloween vrijdag 1 november
DESCRIPTION:🎃 Zuiderburen Fright Night – Durf jij het aan? 🎃 Op vri
 jdag 1 november verandert het Jeugdhonk van Markant in een plek vol griezel
 ige verrassingen. Tijdens een huiveringwekkende tocht lijken kinderhelden i
 neens een duistere kant te hebben… Ben jij klaar voor een avond vol spann
 ing? Laat je angst thuis en[..]\nhttps://zuiderburen.nl/events/halloween-vr
 ijdag-1-november/
URL:https://zuiderburen.nl/events/halloween-vrijdag-1-november/
END:VEVENT
END:VCALENDAR