BEGIN:VCALENDAR
VERSION:2.0
PRODID:-//eventon.com NONSGML v1.0//EN
CALSCALE:GREGORIAN
METHOD:PUBLISH
BEGIN:VEVENT
UID:69e8fb00dbf01
DTSTAMP:20260422T164448Z
DTSTART:20251116T100000Z
DTEND:20251116T150000Z
LOCATION:
SUMMARY:Sinterklaas intocht Zuiderburen 16 november
DESCRIPTION:Zondag 16 november komt Sinterklaas weer aan in Zuiderburen. Hi
 j wil natuurlijk graag alle kinderen begroeten. Hiervoor zijn 3 ontmoetings
 plaatsen gecreëerd zodat de Sint de kinderen een handje kan geven maar nat
 uurlijk ook de tekeningen in ontvangst kan nemen. Ook neemt hij natuurlijk 
 weer zijn pieten mee. Hieronder een overzicht[..]\nhttps://zuiderburen.nl/e
 vents/sinterklaas-intocht/
URL:https://zuiderburen.nl/events/sinterklaas-intocht/
END:VEVENT
END:VCALENDAR