BEGIN:VCALENDAR
VERSION:2.0
PRODID:-//eventon.com NONSGML v1.0//EN
CALSCALE:GREGORIAN
METHOD:PUBLISH
BEGIN:VEVENT
UID:69e912462eceb
DTSTAMP:20260422T182406Z
DTSTART:20251120T190000Z
DTEND:20251120T210000Z
LOCATION:
SUMMARY:ALV Donderdag 20 november om 20.00 uur
DESCRIPTION:Op donderdag 20 november is de ALV in Markant. We beginnen om 2
 0.00 uur. Je bent van harte uitgenodigd om hierbij aanwezig te zijn. Uitera
 ard is deze ALV voor alle leden van Wijkvereniging Zuiderburen.\nhttps://zu
 iderburen.nl/events/alv/
URL:https://zuiderburen.nl/events/alv/
END:VEVENT
END:VCALENDAR